BEGIN:VCALENDAR
VERSION:2.0
PRODID:-//Lyman Methodist Church - ECPv6.15.20//NONSGML v1.0//EN
CALSCALE:GREGORIAN
METHOD:PUBLISH
X-WR-CALNAME:Lyman Methodist Church
X-ORIGINAL-URL:https://lymanmethodist.org
X-WR-CALDESC:Events for Lyman Methodist Church
REFRESH-INTERVAL;VALUE=DURATION:PT1H
X-Robots-Tag:noindex
X-PUBLISHED-TTL:PT1H
BEGIN:VTIMEZONE
TZID:UTC
BEGIN:STANDARD
TZOFFSETFROM:+0000
TZOFFSETTO:+0000
TZNAME:UTC
DTSTART:20250101T000000
END:STANDARD
END:VTIMEZONE
BEGIN:VEVENT
DTSTART;TZID=UTC:20260422T173000
DTEND;TZID=UTC:20260422T193000
DTSTAMP:20260420T014852
CREATED:20260129T162056Z
LAST-MODIFIED:20260215T191446Z
UID:10002422-1776879000-1776886200@lymanmethodist.org
SUMMARY:Wednesday Night Discipleship and Fellowship
DESCRIPTION:There’s something for everyone on Wednesday nights at LMC! \nWe start with a meal and fellowship at 5:30. Please RSVP for the meal by the Monday prior at this link- \nhttps://docs.google.com/forms/d/1R2pEF3KDOgx36DG8qsFLlmGNT7qgA8jwAEGOVVSiFj4/edit \nThe cost of dinner is $5 per person\, $20 per family up to 6 people\, $30 per family of more than 6. If you need help with this cost\, please contact our church office. \nAfter our meal we will break out into groups! \nKids’ LYFE will have a lesson\, games and music. Currently they are studying The Lord’s Prayer. \nYouth will study “The Basics of the Wesleyan Way” with Pastor Andrew and Pastor Cayce. \nAdults have a choice of choir practice\, a study of the book “Perfect Love”\, or a study of the book “The Intercessory Life: A Missional Model for Discipleship”. \nNursery Care is provided during the 6:30 – 7:30 hour. Please let Mrs. Pattie know (Pattie@lymanmethodist.org) if you child needs nursery care so we can make sure we have adequate staff. \nWe will conclude together with prayer in the lobby at 7:30. \nEmail questions to Andrew@lymanmethodist.org.
URL:https://lymanmethodist.org/event/wednesday-night-discipleship-and-fellowship/2026-04-22/
LOCATION:Lyman Methodist Church Downtown Campus\, 106 Groce Rd.\, Lyman\, SC\, 29365\, United States
ATTACH;FMTTYPE=image/jpeg:https://lymanmethodist.org/wp-content/uploads/2026/01/Untitled-design-1.jpg
END:VEVENT
BEGIN:VEVENT
DTSTART;TZID=UTC:20260426T090000
DTEND;TZID=UTC:20260426T100000
DTSTAMP:20260420T014852
CREATED:20251222T144900Z
LAST-MODIFIED:20260129T164238Z
UID:10000631-1777194000-1777197600@lymanmethodist.org
SUMMARY:Contemporary Service
DESCRIPTION:
URL:https://lymanmethodist.org/event/test-4/2026-04-26/
LOCATION:SC
ATTACH;FMTTYPE=image/jpeg:https://lymanmethodist.org/wp-content/uploads/2024/04/contemporary.jpg
END:VEVENT
BEGIN:VEVENT
DTSTART;TZID=UTC:20260426T093000
DTEND;TZID=UTC:20260426T103000
DTSTAMP:20260420T014852
CREATED:20251222T144803Z
LAST-MODIFIED:20260129T164200Z
UID:10001959-1777195800-1777199400@lymanmethodist.org
SUMMARY:Lakeside Service
DESCRIPTION:
URL:https://lymanmethodist.org/event/test-3-2/2026-04-26/
LOCATION:SC
ATTACH;FMTTYPE=image/jpeg:https://lymanmethodist.org/wp-content/uploads/2024/04/Lakeside.jpg
END:VEVENT
BEGIN:VEVENT
DTSTART;TZID=UTC:20260426T110000
DTEND;TZID=UTC:20260426T120000
DTSTAMP:20260420T014852
CREATED:20251222T144606Z
LAST-MODIFIED:20260129T162246Z
UID:10001153-1777201200-1777204800@lymanmethodist.org
SUMMARY:Traditional Service
DESCRIPTION:
URL:https://lymanmethodist.org/event/test-2-2/2026-04-26/
LOCATION:SC
ATTACH;FMTTYPE=image/jpeg:https://lymanmethodist.org/wp-content/uploads/2024/04/Traditional.jpg
END:VEVENT
BEGIN:VEVENT
DTSTART;TZID=UTC:20260429T173000
DTEND;TZID=UTC:20260429T193000
DTSTAMP:20260420T014852
CREATED:20260129T162056Z
LAST-MODIFIED:20260215T191446Z
UID:10002423-1777483800-1777491000@lymanmethodist.org
SUMMARY:Wednesday Night Discipleship and Fellowship
DESCRIPTION:There’s something for everyone on Wednesday nights at LMC! \nWe start with a meal and fellowship at 5:30. Please RSVP for the meal by the Monday prior at this link- \nhttps://docs.google.com/forms/d/1R2pEF3KDOgx36DG8qsFLlmGNT7qgA8jwAEGOVVSiFj4/edit \nThe cost of dinner is $5 per person\, $20 per family up to 6 people\, $30 per family of more than 6. If you need help with this cost\, please contact our church office. \nAfter our meal we will break out into groups! \nKids’ LYFE will have a lesson\, games and music. Currently they are studying The Lord’s Prayer. \nYouth will study “The Basics of the Wesleyan Way” with Pastor Andrew and Pastor Cayce. \nAdults have a choice of choir practice\, a study of the book “Perfect Love”\, or a study of the book “The Intercessory Life: A Missional Model for Discipleship”. \nNursery Care is provided during the 6:30 – 7:30 hour. Please let Mrs. Pattie know (Pattie@lymanmethodist.org) if you child needs nursery care so we can make sure we have adequate staff. \nWe will conclude together with prayer in the lobby at 7:30. \nEmail questions to Andrew@lymanmethodist.org.
URL:https://lymanmethodist.org/event/wednesday-night-discipleship-and-fellowship/2026-04-29/
LOCATION:Lyman Methodist Church Downtown Campus\, 106 Groce Rd.\, Lyman\, SC\, 29365\, United States
ATTACH;FMTTYPE=image/jpeg:https://lymanmethodist.org/wp-content/uploads/2026/01/Untitled-design-1.jpg
END:VEVENT
BEGIN:VEVENT
DTSTART;TZID=UTC:20260503T090000
DTEND;TZID=UTC:20260503T100000
DTSTAMP:20260420T014852
CREATED:20251222T144900Z
LAST-MODIFIED:20260129T164238Z
UID:10000632-1777798800-1777802400@lymanmethodist.org
SUMMARY:Contemporary Service
DESCRIPTION:
URL:https://lymanmethodist.org/event/test-4/2026-05-03/
LOCATION:SC
ATTACH;FMTTYPE=image/jpeg:https://lymanmethodist.org/wp-content/uploads/2024/04/contemporary.jpg
END:VEVENT
BEGIN:VEVENT
DTSTART;TZID=UTC:20260503T093000
DTEND;TZID=UTC:20260503T103000
DTSTAMP:20260420T014852
CREATED:20251222T144803Z
LAST-MODIFIED:20260129T164200Z
UID:10001960-1777800600-1777804200@lymanmethodist.org
SUMMARY:Lakeside Service
DESCRIPTION:
URL:https://lymanmethodist.org/event/test-3-2/2026-05-03/
LOCATION:SC
ATTACH;FMTTYPE=image/jpeg:https://lymanmethodist.org/wp-content/uploads/2024/04/Lakeside.jpg
END:VEVENT
BEGIN:VEVENT
DTSTART;TZID=UTC:20260503T110000
DTEND;TZID=UTC:20260503T120000
DTSTAMP:20260420T014852
CREATED:20251222T144606Z
LAST-MODIFIED:20260129T162246Z
UID:10001154-1777806000-1777809600@lymanmethodist.org
SUMMARY:Traditional Service
DESCRIPTION:
URL:https://lymanmethodist.org/event/test-2-2/2026-05-03/
LOCATION:SC
ATTACH;FMTTYPE=image/jpeg:https://lymanmethodist.org/wp-content/uploads/2024/04/Traditional.jpg
END:VEVENT
BEGIN:VEVENT
DTSTART;TZID=UTC:20260506T173000
DTEND;TZID=UTC:20260506T193000
DTSTAMP:20260420T014852
CREATED:20260129T162056Z
LAST-MODIFIED:20260215T191446Z
UID:10002424-1778088600-1778095800@lymanmethodist.org
SUMMARY:Wednesday Night Discipleship and Fellowship
DESCRIPTION:There’s something for everyone on Wednesday nights at LMC! \nWe start with a meal and fellowship at 5:30. Please RSVP for the meal by the Monday prior at this link- \nhttps://docs.google.com/forms/d/1R2pEF3KDOgx36DG8qsFLlmGNT7qgA8jwAEGOVVSiFj4/edit \nThe cost of dinner is $5 per person\, $20 per family up to 6 people\, $30 per family of more than 6. If you need help with this cost\, please contact our church office. \nAfter our meal we will break out into groups! \nKids’ LYFE will have a lesson\, games and music. Currently they are studying The Lord’s Prayer. \nYouth will study “The Basics of the Wesleyan Way” with Pastor Andrew and Pastor Cayce. \nAdults have a choice of choir practice\, a study of the book “Perfect Love”\, or a study of the book “The Intercessory Life: A Missional Model for Discipleship”. \nNursery Care is provided during the 6:30 – 7:30 hour. Please let Mrs. Pattie know (Pattie@lymanmethodist.org) if you child needs nursery care so we can make sure we have adequate staff. \nWe will conclude together with prayer in the lobby at 7:30. \nEmail questions to Andrew@lymanmethodist.org.
URL:https://lymanmethodist.org/event/wednesday-night-discipleship-and-fellowship/2026-05-06/
LOCATION:Lyman Methodist Church Downtown Campus\, 106 Groce Rd.\, Lyman\, SC\, 29365\, United States
ATTACH;FMTTYPE=image/jpeg:https://lymanmethodist.org/wp-content/uploads/2026/01/Untitled-design-1.jpg
END:VEVENT
BEGIN:VEVENT
DTSTART;TZID=UTC:20260510T090000
DTEND;TZID=UTC:20260510T100000
DTSTAMP:20260420T014852
CREATED:20251222T144900Z
LAST-MODIFIED:20260129T164238Z
UID:10000633-1778403600-1778407200@lymanmethodist.org
SUMMARY:Contemporary Service
DESCRIPTION:
URL:https://lymanmethodist.org/event/test-4/2026-05-10/
LOCATION:SC
ATTACH;FMTTYPE=image/jpeg:https://lymanmethodist.org/wp-content/uploads/2024/04/contemporary.jpg
END:VEVENT
BEGIN:VEVENT
DTSTART;TZID=UTC:20260510T093000
DTEND;TZID=UTC:20260510T103000
DTSTAMP:20260420T014852
CREATED:20251222T144803Z
LAST-MODIFIED:20260129T164200Z
UID:10001961-1778405400-1778409000@lymanmethodist.org
SUMMARY:Lakeside Service
DESCRIPTION:
URL:https://lymanmethodist.org/event/test-3-2/2026-05-10/
LOCATION:SC
ATTACH;FMTTYPE=image/jpeg:https://lymanmethodist.org/wp-content/uploads/2024/04/Lakeside.jpg
END:VEVENT
BEGIN:VEVENT
DTSTART;TZID=UTC:20260510T110000
DTEND;TZID=UTC:20260510T120000
DTSTAMP:20260420T014852
CREATED:20251222T144606Z
LAST-MODIFIED:20260129T162246Z
UID:10001155-1778410800-1778414400@lymanmethodist.org
SUMMARY:Traditional Service
DESCRIPTION:
URL:https://lymanmethodist.org/event/test-2-2/2026-05-10/
LOCATION:SC
ATTACH;FMTTYPE=image/jpeg:https://lymanmethodist.org/wp-content/uploads/2024/04/Traditional.jpg
END:VEVENT
BEGIN:VEVENT
DTSTART;TZID=UTC:20260513T173000
DTEND;TZID=UTC:20260513T193000
DTSTAMP:20260420T014852
CREATED:20260129T162056Z
LAST-MODIFIED:20260215T191446Z
UID:10002425-1778693400-1778700600@lymanmethodist.org
SUMMARY:Wednesday Night Discipleship and Fellowship
DESCRIPTION:There’s something for everyone on Wednesday nights at LMC! \nWe start with a meal and fellowship at 5:30. Please RSVP for the meal by the Monday prior at this link- \nhttps://docs.google.com/forms/d/1R2pEF3KDOgx36DG8qsFLlmGNT7qgA8jwAEGOVVSiFj4/edit \nThe cost of dinner is $5 per person\, $20 per family up to 6 people\, $30 per family of more than 6. If you need help with this cost\, please contact our church office. \nAfter our meal we will break out into groups! \nKids’ LYFE will have a lesson\, games and music. Currently they are studying The Lord’s Prayer. \nYouth will study “The Basics of the Wesleyan Way” with Pastor Andrew and Pastor Cayce. \nAdults have a choice of choir practice\, a study of the book “Perfect Love”\, or a study of the book “The Intercessory Life: A Missional Model for Discipleship”. \nNursery Care is provided during the 6:30 – 7:30 hour. Please let Mrs. Pattie know (Pattie@lymanmethodist.org) if you child needs nursery care so we can make sure we have adequate staff. \nWe will conclude together with prayer in the lobby at 7:30. \nEmail questions to Andrew@lymanmethodist.org.
URL:https://lymanmethodist.org/event/wednesday-night-discipleship-and-fellowship/2026-05-13/
LOCATION:Lyman Methodist Church Downtown Campus\, 106 Groce Rd.\, Lyman\, SC\, 29365\, United States
ATTACH;FMTTYPE=image/jpeg:https://lymanmethodist.org/wp-content/uploads/2026/01/Untitled-design-1.jpg
END:VEVENT
BEGIN:VEVENT
DTSTART;TZID=UTC:20260517T090000
DTEND;TZID=UTC:20260517T100000
DTSTAMP:20260420T014852
CREATED:20251222T144900Z
LAST-MODIFIED:20260129T164238Z
UID:10000634-1779008400-1779012000@lymanmethodist.org
SUMMARY:Contemporary Service
DESCRIPTION:
URL:https://lymanmethodist.org/event/test-4/2026-05-17/
LOCATION:SC
ATTACH;FMTTYPE=image/jpeg:https://lymanmethodist.org/wp-content/uploads/2024/04/contemporary.jpg
END:VEVENT
BEGIN:VEVENT
DTSTART;TZID=UTC:20260517T093000
DTEND;TZID=UTC:20260517T103000
DTSTAMP:20260420T014852
CREATED:20251222T144803Z
LAST-MODIFIED:20260129T164200Z
UID:10001962-1779010200-1779013800@lymanmethodist.org
SUMMARY:Lakeside Service
DESCRIPTION:
URL:https://lymanmethodist.org/event/test-3-2/2026-05-17/
LOCATION:SC
ATTACH;FMTTYPE=image/jpeg:https://lymanmethodist.org/wp-content/uploads/2024/04/Lakeside.jpg
END:VEVENT
BEGIN:VEVENT
DTSTART;TZID=UTC:20260517T110000
DTEND;TZID=UTC:20260517T120000
DTSTAMP:20260420T014852
CREATED:20251222T144606Z
LAST-MODIFIED:20260129T162246Z
UID:10001156-1779015600-1779019200@lymanmethodist.org
SUMMARY:Traditional Service
DESCRIPTION:
URL:https://lymanmethodist.org/event/test-2-2/2026-05-17/
LOCATION:SC
ATTACH;FMTTYPE=image/jpeg:https://lymanmethodist.org/wp-content/uploads/2024/04/Traditional.jpg
END:VEVENT
BEGIN:VEVENT
DTSTART;TZID=UTC:20260520T173000
DTEND;TZID=UTC:20260520T193000
DTSTAMP:20260420T014852
CREATED:20260129T162056Z
LAST-MODIFIED:20260215T191446Z
UID:10002426-1779298200-1779305400@lymanmethodist.org
SUMMARY:Wednesday Night Discipleship and Fellowship
DESCRIPTION:There’s something for everyone on Wednesday nights at LMC! \nWe start with a meal and fellowship at 5:30. Please RSVP for the meal by the Monday prior at this link- \nhttps://docs.google.com/forms/d/1R2pEF3KDOgx36DG8qsFLlmGNT7qgA8jwAEGOVVSiFj4/edit \nThe cost of dinner is $5 per person\, $20 per family up to 6 people\, $30 per family of more than 6. If you need help with this cost\, please contact our church office. \nAfter our meal we will break out into groups! \nKids’ LYFE will have a lesson\, games and music. Currently they are studying The Lord’s Prayer. \nYouth will study “The Basics of the Wesleyan Way” with Pastor Andrew and Pastor Cayce. \nAdults have a choice of choir practice\, a study of the book “Perfect Love”\, or a study of the book “The Intercessory Life: A Missional Model for Discipleship”. \nNursery Care is provided during the 6:30 – 7:30 hour. Please let Mrs. Pattie know (Pattie@lymanmethodist.org) if you child needs nursery care so we can make sure we have adequate staff. \nWe will conclude together with prayer in the lobby at 7:30. \nEmail questions to Andrew@lymanmethodist.org.
URL:https://lymanmethodist.org/event/wednesday-night-discipleship-and-fellowship/2026-05-20/
LOCATION:Lyman Methodist Church Downtown Campus\, 106 Groce Rd.\, Lyman\, SC\, 29365\, United States
ATTACH;FMTTYPE=image/jpeg:https://lymanmethodist.org/wp-content/uploads/2026/01/Untitled-design-1.jpg
END:VEVENT
BEGIN:VEVENT
DTSTART;TZID=UTC:20260524T090000
DTEND;TZID=UTC:20260524T100000
DTSTAMP:20260420T014852
CREATED:20251222T144900Z
LAST-MODIFIED:20260129T164238Z
UID:10000635-1779613200-1779616800@lymanmethodist.org
SUMMARY:Contemporary Service
DESCRIPTION:
URL:https://lymanmethodist.org/event/test-4/2026-05-24/
LOCATION:SC
ATTACH;FMTTYPE=image/jpeg:https://lymanmethodist.org/wp-content/uploads/2024/04/contemporary.jpg
END:VEVENT
BEGIN:VEVENT
DTSTART;TZID=UTC:20260524T093000
DTEND;TZID=UTC:20260524T103000
DTSTAMP:20260420T014852
CREATED:20251222T144803Z
LAST-MODIFIED:20260129T164200Z
UID:10001963-1779615000-1779618600@lymanmethodist.org
SUMMARY:Lakeside Service
DESCRIPTION:
URL:https://lymanmethodist.org/event/test-3-2/2026-05-24/
LOCATION:SC
ATTACH;FMTTYPE=image/jpeg:https://lymanmethodist.org/wp-content/uploads/2024/04/Lakeside.jpg
END:VEVENT
BEGIN:VEVENT
DTSTART;TZID=UTC:20260524T110000
DTEND;TZID=UTC:20260524T120000
DTSTAMP:20260420T014852
CREATED:20251222T144606Z
LAST-MODIFIED:20260129T162246Z
UID:10001157-1779620400-1779624000@lymanmethodist.org
SUMMARY:Traditional Service
DESCRIPTION:
URL:https://lymanmethodist.org/event/test-2-2/2026-05-24/
LOCATION:SC
ATTACH;FMTTYPE=image/jpeg:https://lymanmethodist.org/wp-content/uploads/2024/04/Traditional.jpg
END:VEVENT
BEGIN:VEVENT
DTSTART;TZID=UTC:20260527T173000
DTEND;TZID=UTC:20260527T193000
DTSTAMP:20260420T014852
CREATED:20260129T162056Z
LAST-MODIFIED:20260215T191446Z
UID:10002427-1779903000-1779910200@lymanmethodist.org
SUMMARY:Wednesday Night Discipleship and Fellowship
DESCRIPTION:There’s something for everyone on Wednesday nights at LMC! \nWe start with a meal and fellowship at 5:30. Please RSVP for the meal by the Monday prior at this link- \nhttps://docs.google.com/forms/d/1R2pEF3KDOgx36DG8qsFLlmGNT7qgA8jwAEGOVVSiFj4/edit \nThe cost of dinner is $5 per person\, $20 per family up to 6 people\, $30 per family of more than 6. If you need help with this cost\, please contact our church office. \nAfter our meal we will break out into groups! \nKids’ LYFE will have a lesson\, games and music. Currently they are studying The Lord’s Prayer. \nYouth will study “The Basics of the Wesleyan Way” with Pastor Andrew and Pastor Cayce. \nAdults have a choice of choir practice\, a study of the book “Perfect Love”\, or a study of the book “The Intercessory Life: A Missional Model for Discipleship”. \nNursery Care is provided during the 6:30 – 7:30 hour. Please let Mrs. Pattie know (Pattie@lymanmethodist.org) if you child needs nursery care so we can make sure we have adequate staff. \nWe will conclude together with prayer in the lobby at 7:30. \nEmail questions to Andrew@lymanmethodist.org.
URL:https://lymanmethodist.org/event/wednesday-night-discipleship-and-fellowship/2026-05-27/
LOCATION:Lyman Methodist Church Downtown Campus\, 106 Groce Rd.\, Lyman\, SC\, 29365\, United States
ATTACH;FMTTYPE=image/jpeg:https://lymanmethodist.org/wp-content/uploads/2026/01/Untitled-design-1.jpg
END:VEVENT
BEGIN:VEVENT
DTSTART;TZID=UTC:20260531T090000
DTEND;TZID=UTC:20260531T100000
DTSTAMP:20260420T014852
CREATED:20251222T144900Z
LAST-MODIFIED:20260129T164238Z
UID:10000636-1780218000-1780221600@lymanmethodist.org
SUMMARY:Contemporary Service
DESCRIPTION:
URL:https://lymanmethodist.org/event/test-4/2026-05-31/
LOCATION:SC
ATTACH;FMTTYPE=image/jpeg:https://lymanmethodist.org/wp-content/uploads/2024/04/contemporary.jpg
END:VEVENT
BEGIN:VEVENT
DTSTART;TZID=UTC:20260531T093000
DTEND;TZID=UTC:20260531T103000
DTSTAMP:20260420T014852
CREATED:20251222T144803Z
LAST-MODIFIED:20260129T164200Z
UID:10001964-1780219800-1780223400@lymanmethodist.org
SUMMARY:Lakeside Service
DESCRIPTION:
URL:https://lymanmethodist.org/event/test-3-2/2026-05-31/
LOCATION:SC
ATTACH;FMTTYPE=image/jpeg:https://lymanmethodist.org/wp-content/uploads/2024/04/Lakeside.jpg
END:VEVENT
BEGIN:VEVENT
DTSTART;TZID=UTC:20260531T110000
DTEND;TZID=UTC:20260531T120000
DTSTAMP:20260420T014852
CREATED:20251222T144606Z
LAST-MODIFIED:20260129T162246Z
UID:10001158-1780225200-1780228800@lymanmethodist.org
SUMMARY:Traditional Service
DESCRIPTION:
URL:https://lymanmethodist.org/event/test-2-2/2026-05-31/
LOCATION:SC
ATTACH;FMTTYPE=image/jpeg:https://lymanmethodist.org/wp-content/uploads/2024/04/Traditional.jpg
END:VEVENT
BEGIN:VEVENT
DTSTART;TZID=UTC:20260603T173000
DTEND;TZID=UTC:20260603T193000
DTSTAMP:20260420T014852
CREATED:20260129T162056Z
LAST-MODIFIED:20260215T191446Z
UID:10002428-1780507800-1780515000@lymanmethodist.org
SUMMARY:Wednesday Night Discipleship and Fellowship
DESCRIPTION:There’s something for everyone on Wednesday nights at LMC! \nWe start with a meal and fellowship at 5:30. Please RSVP for the meal by the Monday prior at this link- \nhttps://docs.google.com/forms/d/1R2pEF3KDOgx36DG8qsFLlmGNT7qgA8jwAEGOVVSiFj4/edit \nThe cost of dinner is $5 per person\, $20 per family up to 6 people\, $30 per family of more than 6. If you need help with this cost\, please contact our church office. \nAfter our meal we will break out into groups! \nKids’ LYFE will have a lesson\, games and music. Currently they are studying The Lord’s Prayer. \nYouth will study “The Basics of the Wesleyan Way” with Pastor Andrew and Pastor Cayce. \nAdults have a choice of choir practice\, a study of the book “Perfect Love”\, or a study of the book “The Intercessory Life: A Missional Model for Discipleship”. \nNursery Care is provided during the 6:30 – 7:30 hour. Please let Mrs. Pattie know (Pattie@lymanmethodist.org) if you child needs nursery care so we can make sure we have adequate staff. \nWe will conclude together with prayer in the lobby at 7:30. \nEmail questions to Andrew@lymanmethodist.org.
URL:https://lymanmethodist.org/event/wednesday-night-discipleship-and-fellowship/2026-06-03/
LOCATION:Lyman Methodist Church Downtown Campus\, 106 Groce Rd.\, Lyman\, SC\, 29365\, United States
ATTACH;FMTTYPE=image/jpeg:https://lymanmethodist.org/wp-content/uploads/2026/01/Untitled-design-1.jpg
END:VEVENT
BEGIN:VEVENT
DTSTART;TZID=UTC:20260607T090000
DTEND;TZID=UTC:20260607T100000
DTSTAMP:20260420T014852
CREATED:20251222T144900Z
LAST-MODIFIED:20260129T164238Z
UID:10000637-1780822800-1780826400@lymanmethodist.org
SUMMARY:Contemporary Service
DESCRIPTION:
URL:https://lymanmethodist.org/event/test-4/2026-06-07/
LOCATION:SC
ATTACH;FMTTYPE=image/jpeg:https://lymanmethodist.org/wp-content/uploads/2024/04/contemporary.jpg
END:VEVENT
BEGIN:VEVENT
DTSTART;TZID=UTC:20260607T093000
DTEND;TZID=UTC:20260607T103000
DTSTAMP:20260420T014852
CREATED:20251222T144803Z
LAST-MODIFIED:20260129T164200Z
UID:10001965-1780824600-1780828200@lymanmethodist.org
SUMMARY:Lakeside Service
DESCRIPTION:
URL:https://lymanmethodist.org/event/test-3-2/2026-06-07/
LOCATION:SC
ATTACH;FMTTYPE=image/jpeg:https://lymanmethodist.org/wp-content/uploads/2024/04/Lakeside.jpg
END:VEVENT
BEGIN:VEVENT
DTSTART;TZID=UTC:20260607T110000
DTEND;TZID=UTC:20260607T120000
DTSTAMP:20260420T014852
CREATED:20251222T144606Z
LAST-MODIFIED:20260129T162246Z
UID:10001159-1780830000-1780833600@lymanmethodist.org
SUMMARY:Traditional Service
DESCRIPTION:
URL:https://lymanmethodist.org/event/test-2-2/2026-06-07/
LOCATION:SC
ATTACH;FMTTYPE=image/jpeg:https://lymanmethodist.org/wp-content/uploads/2024/04/Traditional.jpg
END:VEVENT
BEGIN:VEVENT
DTSTART;TZID=UTC:20260610T173000
DTEND;TZID=UTC:20260610T193000
DTSTAMP:20260420T014852
CREATED:20260129T162056Z
LAST-MODIFIED:20260215T191446Z
UID:10002429-1781112600-1781119800@lymanmethodist.org
SUMMARY:Wednesday Night Discipleship and Fellowship
DESCRIPTION:There’s something for everyone on Wednesday nights at LMC! \nWe start with a meal and fellowship at 5:30. Please RSVP for the meal by the Monday prior at this link- \nhttps://docs.google.com/forms/d/1R2pEF3KDOgx36DG8qsFLlmGNT7qgA8jwAEGOVVSiFj4/edit \nThe cost of dinner is $5 per person\, $20 per family up to 6 people\, $30 per family of more than 6. If you need help with this cost\, please contact our church office. \nAfter our meal we will break out into groups! \nKids’ LYFE will have a lesson\, games and music. Currently they are studying The Lord’s Prayer. \nYouth will study “The Basics of the Wesleyan Way” with Pastor Andrew and Pastor Cayce. \nAdults have a choice of choir practice\, a study of the book “Perfect Love”\, or a study of the book “The Intercessory Life: A Missional Model for Discipleship”. \nNursery Care is provided during the 6:30 – 7:30 hour. Please let Mrs. Pattie know (Pattie@lymanmethodist.org) if you child needs nursery care so we can make sure we have adequate staff. \nWe will conclude together with prayer in the lobby at 7:30. \nEmail questions to Andrew@lymanmethodist.org.
URL:https://lymanmethodist.org/event/wednesday-night-discipleship-and-fellowship/2026-06-10/
LOCATION:Lyman Methodist Church Downtown Campus\, 106 Groce Rd.\, Lyman\, SC\, 29365\, United States
ATTACH;FMTTYPE=image/jpeg:https://lymanmethodist.org/wp-content/uploads/2026/01/Untitled-design-1.jpg
END:VEVENT
BEGIN:VEVENT
DTSTART;TZID=UTC:20260614T090000
DTEND;TZID=UTC:20260614T100000
DTSTAMP:20260420T014852
CREATED:20251222T144900Z
LAST-MODIFIED:20260129T164238Z
UID:10000638-1781427600-1781431200@lymanmethodist.org
SUMMARY:Contemporary Service
DESCRIPTION:
URL:https://lymanmethodist.org/event/test-4/2026-06-14/
LOCATION:SC
ATTACH;FMTTYPE=image/jpeg:https://lymanmethodist.org/wp-content/uploads/2024/04/contemporary.jpg
END:VEVENT
END:VCALENDAR