BEGIN:VCALENDAR
VERSION:2.0
PRODID:-//Lyman Methodist Church - ECPv6.15.20//NONSGML v1.0//EN
CALSCALE:GREGORIAN
METHOD:PUBLISH
X-WR-CALNAME:Lyman Methodist Church
X-ORIGINAL-URL:https://lymanmethodist.org
X-WR-CALDESC:Events for Lyman Methodist Church
REFRESH-INTERVAL;VALUE=DURATION:PT1H
X-Robots-Tag:noindex
X-PUBLISHED-TTL:PT1H
BEGIN:VTIMEZONE
TZID:UTC
BEGIN:STANDARD
TZOFFSETFROM:+0000
TZOFFSETTO:+0000
TZNAME:UTC
DTSTART:20250101T000000
END:STANDARD
END:VTIMEZONE
BEGIN:VEVENT
DTSTART;TZID=UTC:20260426T110000
DTEND;TZID=UTC:20260426T120000
DTSTAMP:20260420T053836
CREATED:20251222T144606Z
LAST-MODIFIED:20260129T162246Z
UID:10001153-1777201200-1777204800@lymanmethodist.org
SUMMARY:Traditional Service
DESCRIPTION:
URL:https://lymanmethodist.org/event/test-2-2/2026-04-26/
ATTACH;FMTTYPE=image/jpeg:https://lymanmethodist.org/wp-content/uploads/2024/04/Traditional.jpg
END:VEVENT
BEGIN:VEVENT
DTSTART;TZID=UTC:20260503T110000
DTEND;TZID=UTC:20260503T120000
DTSTAMP:20260420T053836
CREATED:20251222T144606Z
LAST-MODIFIED:20260129T162246Z
UID:10001154-1777806000-1777809600@lymanmethodist.org
SUMMARY:Traditional Service
DESCRIPTION:
URL:https://lymanmethodist.org/event/test-2-2/2026-05-03/
ATTACH;FMTTYPE=image/jpeg:https://lymanmethodist.org/wp-content/uploads/2024/04/Traditional.jpg
END:VEVENT
BEGIN:VEVENT
DTSTART;TZID=UTC:20260510T110000
DTEND;TZID=UTC:20260510T120000
DTSTAMP:20260420T053836
CREATED:20251222T144606Z
LAST-MODIFIED:20260129T162246Z
UID:10001155-1778410800-1778414400@lymanmethodist.org
SUMMARY:Traditional Service
DESCRIPTION:
URL:https://lymanmethodist.org/event/test-2-2/2026-05-10/
ATTACH;FMTTYPE=image/jpeg:https://lymanmethodist.org/wp-content/uploads/2024/04/Traditional.jpg
END:VEVENT
BEGIN:VEVENT
DTSTART;TZID=UTC:20260517T110000
DTEND;TZID=UTC:20260517T120000
DTSTAMP:20260420T053836
CREATED:20251222T144606Z
LAST-MODIFIED:20260129T162246Z
UID:10001156-1779015600-1779019200@lymanmethodist.org
SUMMARY:Traditional Service
DESCRIPTION:
URL:https://lymanmethodist.org/event/test-2-2/2026-05-17/
ATTACH;FMTTYPE=image/jpeg:https://lymanmethodist.org/wp-content/uploads/2024/04/Traditional.jpg
END:VEVENT
BEGIN:VEVENT
DTSTART;TZID=UTC:20260524T110000
DTEND;TZID=UTC:20260524T120000
DTSTAMP:20260420T053836
CREATED:20251222T144606Z
LAST-MODIFIED:20260129T162246Z
UID:10001157-1779620400-1779624000@lymanmethodist.org
SUMMARY:Traditional Service
DESCRIPTION:
URL:https://lymanmethodist.org/event/test-2-2/2026-05-24/
ATTACH;FMTTYPE=image/jpeg:https://lymanmethodist.org/wp-content/uploads/2024/04/Traditional.jpg
END:VEVENT
BEGIN:VEVENT
DTSTART;TZID=UTC:20260531T110000
DTEND;TZID=UTC:20260531T120000
DTSTAMP:20260420T053836
CREATED:20251222T144606Z
LAST-MODIFIED:20260129T162246Z
UID:10001158-1780225200-1780228800@lymanmethodist.org
SUMMARY:Traditional Service
DESCRIPTION:
URL:https://lymanmethodist.org/event/test-2-2/2026-05-31/
ATTACH;FMTTYPE=image/jpeg:https://lymanmethodist.org/wp-content/uploads/2024/04/Traditional.jpg
END:VEVENT
BEGIN:VEVENT
DTSTART;TZID=UTC:20260607T110000
DTEND;TZID=UTC:20260607T120000
DTSTAMP:20260420T053836
CREATED:20251222T144606Z
LAST-MODIFIED:20260129T162246Z
UID:10001159-1780830000-1780833600@lymanmethodist.org
SUMMARY:Traditional Service
DESCRIPTION:
URL:https://lymanmethodist.org/event/test-2-2/2026-06-07/
ATTACH;FMTTYPE=image/jpeg:https://lymanmethodist.org/wp-content/uploads/2024/04/Traditional.jpg
END:VEVENT
BEGIN:VEVENT
DTSTART;TZID=UTC:20260614T110000
DTEND;TZID=UTC:20260614T120000
DTSTAMP:20260420T053836
CREATED:20251222T144606Z
LAST-MODIFIED:20260129T162246Z
UID:10001160-1781434800-1781438400@lymanmethodist.org
SUMMARY:Traditional Service
DESCRIPTION:
URL:https://lymanmethodist.org/event/test-2-2/2026-06-14/
ATTACH;FMTTYPE=image/jpeg:https://lymanmethodist.org/wp-content/uploads/2024/04/Traditional.jpg
END:VEVENT
BEGIN:VEVENT
DTSTART;TZID=UTC:20260621T110000
DTEND;TZID=UTC:20260621T120000
DTSTAMP:20260420T053836
CREATED:20251222T144606Z
LAST-MODIFIED:20260129T162246Z
UID:10001161-1782039600-1782043200@lymanmethodist.org
SUMMARY:Traditional Service
DESCRIPTION:
URL:https://lymanmethodist.org/event/test-2-2/2026-06-21/
ATTACH;FMTTYPE=image/jpeg:https://lymanmethodist.org/wp-content/uploads/2024/04/Traditional.jpg
END:VEVENT
BEGIN:VEVENT
DTSTART;TZID=UTC:20260628T110000
DTEND;TZID=UTC:20260628T120000
DTSTAMP:20260420T053836
CREATED:20251222T144606Z
LAST-MODIFIED:20260129T162246Z
UID:10001162-1782644400-1782648000@lymanmethodist.org
SUMMARY:Traditional Service
DESCRIPTION:
URL:https://lymanmethodist.org/event/test-2-2/2026-06-28/
ATTACH;FMTTYPE=image/jpeg:https://lymanmethodist.org/wp-content/uploads/2024/04/Traditional.jpg
END:VEVENT
BEGIN:VEVENT
DTSTART;TZID=UTC:20260705T110000
DTEND;TZID=UTC:20260705T120000
DTSTAMP:20260420T053836
CREATED:20251222T144606Z
LAST-MODIFIED:20260129T162246Z
UID:10001163-1783249200-1783252800@lymanmethodist.org
SUMMARY:Traditional Service
DESCRIPTION:
URL:https://lymanmethodist.org/event/test-2-2/2026-07-05/
ATTACH;FMTTYPE=image/jpeg:https://lymanmethodist.org/wp-content/uploads/2024/04/Traditional.jpg
END:VEVENT
BEGIN:VEVENT
DTSTART;TZID=UTC:20260712T110000
DTEND;TZID=UTC:20260712T120000
DTSTAMP:20260420T053836
CREATED:20251222T144606Z
LAST-MODIFIED:20260129T162246Z
UID:10001164-1783854000-1783857600@lymanmethodist.org
SUMMARY:Traditional Service
DESCRIPTION:
URL:https://lymanmethodist.org/event/test-2-2/2026-07-12/
ATTACH;FMTTYPE=image/jpeg:https://lymanmethodist.org/wp-content/uploads/2024/04/Traditional.jpg
END:VEVENT
BEGIN:VEVENT
DTSTART;TZID=UTC:20260719T110000
DTEND;TZID=UTC:20260719T120000
DTSTAMP:20260420T053836
CREATED:20251222T144606Z
LAST-MODIFIED:20260129T162246Z
UID:10001165-1784458800-1784462400@lymanmethodist.org
SUMMARY:Traditional Service
DESCRIPTION:
URL:https://lymanmethodist.org/event/test-2-2/2026-07-19/
ATTACH;FMTTYPE=image/jpeg:https://lymanmethodist.org/wp-content/uploads/2024/04/Traditional.jpg
END:VEVENT
BEGIN:VEVENT
DTSTART;TZID=UTC:20260726T110000
DTEND;TZID=UTC:20260726T120000
DTSTAMP:20260420T053836
CREATED:20251222T144606Z
LAST-MODIFIED:20260129T162246Z
UID:10001166-1785063600-1785067200@lymanmethodist.org
SUMMARY:Traditional Service
DESCRIPTION:
URL:https://lymanmethodist.org/event/test-2-2/2026-07-26/
ATTACH;FMTTYPE=image/jpeg:https://lymanmethodist.org/wp-content/uploads/2024/04/Traditional.jpg
END:VEVENT
BEGIN:VEVENT
DTSTART;TZID=UTC:20260802T110000
DTEND;TZID=UTC:20260802T120000
DTSTAMP:20260420T053836
CREATED:20251222T144606Z
LAST-MODIFIED:20260129T162246Z
UID:10001167-1785668400-1785672000@lymanmethodist.org
SUMMARY:Traditional Service
DESCRIPTION:
URL:https://lymanmethodist.org/event/test-2-2/2026-08-02/
ATTACH;FMTTYPE=image/jpeg:https://lymanmethodist.org/wp-content/uploads/2024/04/Traditional.jpg
END:VEVENT
BEGIN:VEVENT
DTSTART;TZID=UTC:20260809T110000
DTEND;TZID=UTC:20260809T120000
DTSTAMP:20260420T053836
CREATED:20251222T144606Z
LAST-MODIFIED:20260129T162246Z
UID:10001168-1786273200-1786276800@lymanmethodist.org
SUMMARY:Traditional Service
DESCRIPTION:
URL:https://lymanmethodist.org/event/test-2-2/2026-08-09/
ATTACH;FMTTYPE=image/jpeg:https://lymanmethodist.org/wp-content/uploads/2024/04/Traditional.jpg
END:VEVENT
BEGIN:VEVENT
DTSTART;TZID=UTC:20260816T110000
DTEND;TZID=UTC:20260816T120000
DTSTAMP:20260420T053836
CREATED:20251222T144606Z
LAST-MODIFIED:20260129T162246Z
UID:10001169-1786878000-1786881600@lymanmethodist.org
SUMMARY:Traditional Service
DESCRIPTION:
URL:https://lymanmethodist.org/event/test-2-2/2026-08-16/
ATTACH;FMTTYPE=image/jpeg:https://lymanmethodist.org/wp-content/uploads/2024/04/Traditional.jpg
END:VEVENT
BEGIN:VEVENT
DTSTART;TZID=UTC:20260823T110000
DTEND;TZID=UTC:20260823T120000
DTSTAMP:20260420T053836
CREATED:20251222T144606Z
LAST-MODIFIED:20260129T162246Z
UID:10001170-1787482800-1787486400@lymanmethodist.org
SUMMARY:Traditional Service
DESCRIPTION:
URL:https://lymanmethodist.org/event/test-2-2/2026-08-23/
ATTACH;FMTTYPE=image/jpeg:https://lymanmethodist.org/wp-content/uploads/2024/04/Traditional.jpg
END:VEVENT
BEGIN:VEVENT
DTSTART;TZID=UTC:20260830T110000
DTEND;TZID=UTC:20260830T120000
DTSTAMP:20260420T053836
CREATED:20251222T144606Z
LAST-MODIFIED:20260129T162246Z
UID:10001171-1788087600-1788091200@lymanmethodist.org
SUMMARY:Traditional Service
DESCRIPTION:
URL:https://lymanmethodist.org/event/test-2-2/2026-08-30/
ATTACH;FMTTYPE=image/jpeg:https://lymanmethodist.org/wp-content/uploads/2024/04/Traditional.jpg
END:VEVENT
BEGIN:VEVENT
DTSTART;TZID=UTC:20260906T110000
DTEND;TZID=UTC:20260906T120000
DTSTAMP:20260420T053836
CREATED:20251222T144606Z
LAST-MODIFIED:20260129T162246Z
UID:10001172-1788692400-1788696000@lymanmethodist.org
SUMMARY:Traditional Service
DESCRIPTION:
URL:https://lymanmethodist.org/event/test-2-2/2026-09-06/
ATTACH;FMTTYPE=image/jpeg:https://lymanmethodist.org/wp-content/uploads/2024/04/Traditional.jpg
END:VEVENT
BEGIN:VEVENT
DTSTART;TZID=UTC:20260913T110000
DTEND;TZID=UTC:20260913T120000
DTSTAMP:20260420T053836
CREATED:20251222T144606Z
LAST-MODIFIED:20260129T162246Z
UID:10001173-1789297200-1789300800@lymanmethodist.org
SUMMARY:Traditional Service
DESCRIPTION:
URL:https://lymanmethodist.org/event/test-2-2/2026-09-13/
ATTACH;FMTTYPE=image/jpeg:https://lymanmethodist.org/wp-content/uploads/2024/04/Traditional.jpg
END:VEVENT
BEGIN:VEVENT
DTSTART;TZID=UTC:20260920T110000
DTEND;TZID=UTC:20260920T120000
DTSTAMP:20260420T053836
CREATED:20251222T144606Z
LAST-MODIFIED:20260129T162246Z
UID:10001174-1789902000-1789905600@lymanmethodist.org
SUMMARY:Traditional Service
DESCRIPTION:
URL:https://lymanmethodist.org/event/test-2-2/2026-09-20/
ATTACH;FMTTYPE=image/jpeg:https://lymanmethodist.org/wp-content/uploads/2024/04/Traditional.jpg
END:VEVENT
BEGIN:VEVENT
DTSTART;TZID=UTC:20260927T110000
DTEND;TZID=UTC:20260927T120000
DTSTAMP:20260420T053836
CREATED:20251222T144606Z
LAST-MODIFIED:20260129T162246Z
UID:10001175-1790506800-1790510400@lymanmethodist.org
SUMMARY:Traditional Service
DESCRIPTION:
URL:https://lymanmethodist.org/event/test-2-2/2026-09-27/
ATTACH;FMTTYPE=image/jpeg:https://lymanmethodist.org/wp-content/uploads/2024/04/Traditional.jpg
END:VEVENT
BEGIN:VEVENT
DTSTART;TZID=UTC:20261004T110000
DTEND;TZID=UTC:20261004T120000
DTSTAMP:20260420T053836
CREATED:20251222T144606Z
LAST-MODIFIED:20260129T162246Z
UID:10001176-1791111600-1791115200@lymanmethodist.org
SUMMARY:Traditional Service
DESCRIPTION:
URL:https://lymanmethodist.org/event/test-2-2/2026-10-04/
ATTACH;FMTTYPE=image/jpeg:https://lymanmethodist.org/wp-content/uploads/2024/04/Traditional.jpg
END:VEVENT
BEGIN:VEVENT
DTSTART;TZID=UTC:20261011T110000
DTEND;TZID=UTC:20261011T120000
DTSTAMP:20260420T053836
CREATED:20251222T144606Z
LAST-MODIFIED:20260129T162246Z
UID:10001177-1791716400-1791720000@lymanmethodist.org
SUMMARY:Traditional Service
DESCRIPTION:
URL:https://lymanmethodist.org/event/test-2-2/2026-10-11/
ATTACH;FMTTYPE=image/jpeg:https://lymanmethodist.org/wp-content/uploads/2024/04/Traditional.jpg
END:VEVENT
BEGIN:VEVENT
DTSTART;TZID=UTC:20261018T110000
DTEND;TZID=UTC:20261018T120000
DTSTAMP:20260420T053836
CREATED:20251222T144606Z
LAST-MODIFIED:20260129T162246Z
UID:10001178-1792321200-1792324800@lymanmethodist.org
SUMMARY:Traditional Service
DESCRIPTION:
URL:https://lymanmethodist.org/event/test-2-2/2026-10-18/
ATTACH;FMTTYPE=image/jpeg:https://lymanmethodist.org/wp-content/uploads/2024/04/Traditional.jpg
END:VEVENT
BEGIN:VEVENT
DTSTART;TZID=UTC:20261025T110000
DTEND;TZID=UTC:20261025T120000
DTSTAMP:20260420T053836
CREATED:20251222T144606Z
LAST-MODIFIED:20260129T162246Z
UID:10001179-1792926000-1792929600@lymanmethodist.org
SUMMARY:Traditional Service
DESCRIPTION:
URL:https://lymanmethodist.org/event/test-2-2/2026-10-25/
ATTACH;FMTTYPE=image/jpeg:https://lymanmethodist.org/wp-content/uploads/2024/04/Traditional.jpg
END:VEVENT
BEGIN:VEVENT
DTSTART;TZID=UTC:20261101T110000
DTEND;TZID=UTC:20261101T120000
DTSTAMP:20260420T053836
CREATED:20251222T144606Z
LAST-MODIFIED:20260129T162246Z
UID:10001180-1793530800-1793534400@lymanmethodist.org
SUMMARY:Traditional Service
DESCRIPTION:
URL:https://lymanmethodist.org/event/test-2-2/2026-11-01/
ATTACH;FMTTYPE=image/jpeg:https://lymanmethodist.org/wp-content/uploads/2024/04/Traditional.jpg
END:VEVENT
BEGIN:VEVENT
DTSTART;TZID=UTC:20261108T110000
DTEND;TZID=UTC:20261108T120000
DTSTAMP:20260420T053836
CREATED:20251222T144606Z
LAST-MODIFIED:20260129T162246Z
UID:10001181-1794135600-1794139200@lymanmethodist.org
SUMMARY:Traditional Service
DESCRIPTION:
URL:https://lymanmethodist.org/event/test-2-2/2026-11-08/
ATTACH;FMTTYPE=image/jpeg:https://lymanmethodist.org/wp-content/uploads/2024/04/Traditional.jpg
END:VEVENT
BEGIN:VEVENT
DTSTART;TZID=UTC:20261115T110000
DTEND;TZID=UTC:20261115T120000
DTSTAMP:20260420T053836
CREATED:20251222T144606Z
LAST-MODIFIED:20260129T162246Z
UID:10001182-1794740400-1794744000@lymanmethodist.org
SUMMARY:Traditional Service
DESCRIPTION:
URL:https://lymanmethodist.org/event/test-2-2/2026-11-15/
ATTACH;FMTTYPE=image/jpeg:https://lymanmethodist.org/wp-content/uploads/2024/04/Traditional.jpg
END:VEVENT
END:VCALENDAR