BEGIN:VCALENDAR
VERSION:2.0
PRODID:-//Lyman Methodist Church - ECPv6.15.20//NONSGML v1.0//EN
CALSCALE:GREGORIAN
METHOD:PUBLISH
X-WR-CALNAME:Lyman Methodist Church
X-ORIGINAL-URL:https://lymanmethodist.org
X-WR-CALDESC:Events for Lyman Methodist Church
REFRESH-INTERVAL;VALUE=DURATION:PT1H
X-Robots-Tag:noindex
X-PUBLISHED-TTL:PT1H
BEGIN:VTIMEZONE
TZID:UTC
BEGIN:STANDARD
TZOFFSETFROM:+0000
TZOFFSETTO:+0000
TZNAME:UTC
DTSTART:20250101T000000
END:STANDARD
END:VTIMEZONE
BEGIN:VEVENT
DTSTART;TZID=UTC:20261224T160000
DTEND;TZID=UTC:20261224T173000
DTSTAMP:20260420T071253
CREATED:20251222T143137Z
LAST-MODIFIED:20251223T152934Z
UID:10002161-1798128000-1798133400@lymanmethodist.org
SUMMARY:Christmas Eve Service- Contemporary Worship
DESCRIPTION:We would love for your to join us for our churchwide Christmas Eve services on 12/24/25. \nThere will be two services offered. There will be a contemporary worship service at 4pm and a traditional worship service at 7pm. Both services will conclude with Holy Communion and a traditional lighting of the candles.
URL:https://lymanmethodist.org/event/christmas-eve-services-2/2026-12-24/
LOCATION:Lyman Methodist Church Downtown Campus\, 106 Groce Rd.\, Lyman\, SC\, 29365\, United States
ATTACH;FMTTYPE=image/jpeg:https://lymanmethodist.org/wp-content/uploads/2024/04/Traditional.jpg
END:VEVENT
BEGIN:VEVENT
DTSTART;TZID=UTC:20261224T190000
DTEND;TZID=UTC:20261224T203000
DTSTAMP:20260420T071253
CREATED:20251223T153042Z
LAST-MODIFIED:20251223T153042Z
UID:10002407-1798138800-1798144200@lymanmethodist.org
SUMMARY:Christmas Eve Service- Traditional Worship
DESCRIPTION:We would love for your to join us for our churchwide Christmas Eve services on 12/24/25. \nThere will be two services offered. There will be a contemporary worship service at 4pm and a traditional worship service at 7pm. Both services will conclude with Holy Communion and a traditional lighting of the candles.
URL:https://lymanmethodist.org/event/christmas-eve-service-traditional-worship/2026-12-24/
LOCATION:Lyman Methodist Church Downtown Campus\, 106 Groce Rd.\, Lyman\, SC\, 29365\, United States
ATTACH;FMTTYPE=image/jpeg:https://lymanmethodist.org/wp-content/uploads/2024/04/Traditional.jpg
END:VEVENT
BEGIN:VEVENT
DTSTART;TZID=UTC:20271224T160000
DTEND;TZID=UTC:20271224T173000
DTSTAMP:20260420T071253
CREATED:20251222T143137Z
LAST-MODIFIED:20251223T152934Z
UID:10002162-1829664000-1829669400@lymanmethodist.org
SUMMARY:Christmas Eve Service- Contemporary Worship
DESCRIPTION:We would love for your to join us for our churchwide Christmas Eve services on 12/24/25. \nThere will be two services offered. There will be a contemporary worship service at 4pm and a traditional worship service at 7pm. Both services will conclude with Holy Communion and a traditional lighting of the candles.
URL:https://lymanmethodist.org/event/christmas-eve-services-2/2027-12-24/
LOCATION:Lyman Methodist Church Downtown Campus\, 106 Groce Rd.\, Lyman\, SC\, 29365\, United States
ATTACH;FMTTYPE=image/jpeg:https://lymanmethodist.org/wp-content/uploads/2024/04/Traditional.jpg
END:VEVENT
BEGIN:VEVENT
DTSTART;TZID=UTC:20271224T190000
DTEND;TZID=UTC:20271224T203000
DTSTAMP:20260420T071253
CREATED:20251223T153042Z
LAST-MODIFIED:20251223T153042Z
UID:10002408-1829674800-1829680200@lymanmethodist.org
SUMMARY:Christmas Eve Service- Traditional Worship
DESCRIPTION:We would love for your to join us for our churchwide Christmas Eve services on 12/24/25. \nThere will be two services offered. There will be a contemporary worship service at 4pm and a traditional worship service at 7pm. Both services will conclude with Holy Communion and a traditional lighting of the candles.
URL:https://lymanmethodist.org/event/christmas-eve-service-traditional-worship/2027-12-24/
LOCATION:Lyman Methodist Church Downtown Campus\, 106 Groce Rd.\, Lyman\, SC\, 29365\, United States
ATTACH;FMTTYPE=image/jpeg:https://lymanmethodist.org/wp-content/uploads/2024/04/Traditional.jpg
END:VEVENT
BEGIN:VEVENT
DTSTART;TZID=UTC:20281224T160000
DTEND;TZID=UTC:20281224T173000
DTSTAMP:20260420T071253
CREATED:20251222T143137Z
LAST-MODIFIED:20251223T152934Z
UID:10002163-1861286400-1861291800@lymanmethodist.org
SUMMARY:Christmas Eve Service- Contemporary Worship
DESCRIPTION:We would love for your to join us for our churchwide Christmas Eve services on 12/24/25. \nThere will be two services offered. There will be a contemporary worship service at 4pm and a traditional worship service at 7pm. Both services will conclude with Holy Communion and a traditional lighting of the candles.
URL:https://lymanmethodist.org/event/christmas-eve-services-2/2028-12-24/
LOCATION:Lyman Methodist Church Downtown Campus\, 106 Groce Rd.\, Lyman\, SC\, 29365\, United States
ATTACH;FMTTYPE=image/jpeg:https://lymanmethodist.org/wp-content/uploads/2024/04/Traditional.jpg
END:VEVENT
BEGIN:VEVENT
DTSTART;TZID=UTC:20281224T190000
DTEND;TZID=UTC:20281224T203000
DTSTAMP:20260420T071253
CREATED:20251223T153042Z
LAST-MODIFIED:20251223T153042Z
UID:10002409-1861297200-1861302600@lymanmethodist.org
SUMMARY:Christmas Eve Service- Traditional Worship
DESCRIPTION:We would love for your to join us for our churchwide Christmas Eve services on 12/24/25. \nThere will be two services offered. There will be a contemporary worship service at 4pm and a traditional worship service at 7pm. Both services will conclude with Holy Communion and a traditional lighting of the candles.
URL:https://lymanmethodist.org/event/christmas-eve-service-traditional-worship/2028-12-24/
LOCATION:Lyman Methodist Church Downtown Campus\, 106 Groce Rd.\, Lyman\, SC\, 29365\, United States
ATTACH;FMTTYPE=image/jpeg:https://lymanmethodist.org/wp-content/uploads/2024/04/Traditional.jpg
END:VEVENT
BEGIN:VEVENT
DTSTART;TZID=UTC:20291224T160000
DTEND;TZID=UTC:20291224T173000
DTSTAMP:20260420T071253
CREATED:20251222T143137Z
LAST-MODIFIED:20251223T152934Z
UID:10002164-1892822400-1892827800@lymanmethodist.org
SUMMARY:Christmas Eve Service- Contemporary Worship
DESCRIPTION:We would love for your to join us for our churchwide Christmas Eve services on 12/24/25. \nThere will be two services offered. There will be a contemporary worship service at 4pm and a traditional worship service at 7pm. Both services will conclude with Holy Communion and a traditional lighting of the candles.
URL:https://lymanmethodist.org/event/christmas-eve-services-2/2029-12-24/
LOCATION:Lyman Methodist Church Downtown Campus\, 106 Groce Rd.\, Lyman\, SC\, 29365\, United States
ATTACH;FMTTYPE=image/jpeg:https://lymanmethodist.org/wp-content/uploads/2024/04/Traditional.jpg
END:VEVENT
BEGIN:VEVENT
DTSTART;TZID=UTC:20291224T190000
DTEND;TZID=UTC:20291224T203000
DTSTAMP:20260420T071253
CREATED:20251223T153042Z
LAST-MODIFIED:20251223T153042Z
UID:10002410-1892833200-1892838600@lymanmethodist.org
SUMMARY:Christmas Eve Service- Traditional Worship
DESCRIPTION:We would love for your to join us for our churchwide Christmas Eve services on 12/24/25. \nThere will be two services offered. There will be a contemporary worship service at 4pm and a traditional worship service at 7pm. Both services will conclude with Holy Communion and a traditional lighting of the candles.
URL:https://lymanmethodist.org/event/christmas-eve-service-traditional-worship/2029-12-24/
LOCATION:Lyman Methodist Church Downtown Campus\, 106 Groce Rd.\, Lyman\, SC\, 29365\, United States
ATTACH;FMTTYPE=image/jpeg:https://lymanmethodist.org/wp-content/uploads/2024/04/Traditional.jpg
END:VEVENT
END:VCALENDAR