BEGIN:VCALENDAR
VERSION:2.0
PRODID:-//Lyman Methodist Church - ECPv6.15.20//NONSGML v1.0//EN
CALSCALE:GREGORIAN
METHOD:PUBLISH
X-WR-CALNAME:Lyman Methodist Church
X-ORIGINAL-URL:https://lymanmethodist.org
X-WR-CALDESC:Events for Lyman Methodist Church
REFRESH-INTERVAL;VALUE=DURATION:PT1H
X-Robots-Tag:noindex
X-PUBLISHED-TTL:PT1H
BEGIN:VTIMEZONE
TZID:UTC
BEGIN:STANDARD
TZOFFSETFROM:+0000
TZOFFSETTO:+0000
TZNAME:UTC
DTSTART:20250101T000000
END:STANDARD
END:VTIMEZONE
BEGIN:VEVENT
DTSTART;TZID=UTC:20261223T183000
DTEND;TZID=UTC:20261223T200000
DTSTAMP:20260422T091114
CREATED:20251222T143955Z
LAST-MODIFIED:20251222T145852Z
UID:10002167-1798050600-1798056000@lymanmethodist.org
SUMMARY:Campfire Christmas Carols
DESCRIPTION:We would love for you to join us for our annual Campfire Christmas Caroling event at our Downtown campus. We will gather out in the field for cookies\, cocoa\, campfire\, and carols. All are welcome! Bring a blanket and/or a chair. \n 
URL:https://lymanmethodist.org/event/campfire-christmas-carols-2/2026-12-23/
LOCATION:Lyman Methodist Church Downtown Campus\, 106 Groce Rd.\, Lyman\, SC\, 29365\, United States
ATTACH;FMTTYPE=image/jpeg:https://lymanmethodist.org/wp-content/uploads/2025/12/Untitled-design-22.jpg
END:VEVENT
BEGIN:VEVENT
DTSTART;TZID=UTC:20271223T183000
DTEND;TZID=UTC:20271223T200000
DTSTAMP:20260422T091114
CREATED:20251222T143955Z
LAST-MODIFIED:20251222T145852Z
UID:10002168-1829586600-1829592000@lymanmethodist.org
SUMMARY:Campfire Christmas Carols
DESCRIPTION:We would love for you to join us for our annual Campfire Christmas Caroling event at our Downtown campus. We will gather out in the field for cookies\, cocoa\, campfire\, and carols. All are welcome! Bring a blanket and/or a chair. \n 
URL:https://lymanmethodist.org/event/campfire-christmas-carols-2/2027-12-23/
LOCATION:Lyman Methodist Church Downtown Campus\, 106 Groce Rd.\, Lyman\, SC\, 29365\, United States
ATTACH;FMTTYPE=image/jpeg:https://lymanmethodist.org/wp-content/uploads/2025/12/Untitled-design-22.jpg
END:VEVENT
BEGIN:VEVENT
DTSTART;TZID=UTC:20281223T183000
DTEND;TZID=UTC:20281223T200000
DTSTAMP:20260422T091114
CREATED:20251222T143955Z
LAST-MODIFIED:20251222T145852Z
UID:10002169-1861209000-1861214400@lymanmethodist.org
SUMMARY:Campfire Christmas Carols
DESCRIPTION:We would love for you to join us for our annual Campfire Christmas Caroling event at our Downtown campus. We will gather out in the field for cookies\, cocoa\, campfire\, and carols. All are welcome! Bring a blanket and/or a chair. \n 
URL:https://lymanmethodist.org/event/campfire-christmas-carols-2/2028-12-23/
LOCATION:Lyman Methodist Church Downtown Campus\, 106 Groce Rd.\, Lyman\, SC\, 29365\, United States
ATTACH;FMTTYPE=image/jpeg:https://lymanmethodist.org/wp-content/uploads/2025/12/Untitled-design-22.jpg
END:VEVENT
BEGIN:VEVENT
DTSTART;TZID=UTC:20291223T183000
DTEND;TZID=UTC:20291223T200000
DTSTAMP:20260422T091114
CREATED:20251222T143955Z
LAST-MODIFIED:20251222T145852Z
UID:10002170-1892745000-1892750400@lymanmethodist.org
SUMMARY:Campfire Christmas Carols
DESCRIPTION:We would love for you to join us for our annual Campfire Christmas Caroling event at our Downtown campus. We will gather out in the field for cookies\, cocoa\, campfire\, and carols. All are welcome! Bring a blanket and/or a chair. \n 
URL:https://lymanmethodist.org/event/campfire-christmas-carols-2/2029-12-23/
LOCATION:Lyman Methodist Church Downtown Campus\, 106 Groce Rd.\, Lyman\, SC\, 29365\, United States
ATTACH;FMTTYPE=image/jpeg:https://lymanmethodist.org/wp-content/uploads/2025/12/Untitled-design-22.jpg
END:VEVENT
END:VCALENDAR