BEGIN:VCALENDAR
VERSION:2.0
PRODID:-//Lyman Methodist Church - ECPv6.15.20//NONSGML v1.0//EN
CALSCALE:GREGORIAN
METHOD:PUBLISH
X-WR-CALNAME:Lyman Methodist Church
X-ORIGINAL-URL:https://lymanmethodist.org
X-WR-CALDESC:Events for Lyman Methodist Church
REFRESH-INTERVAL;VALUE=DURATION:PT1H
X-Robots-Tag:noindex
X-PUBLISHED-TTL:PT1H
BEGIN:VTIMEZONE
TZID:UTC
BEGIN:STANDARD
TZOFFSETFROM:+0000
TZOFFSETTO:+0000
TZNAME:UTC
DTSTART:20250101T000000
END:STANDARD
END:VTIMEZONE
BEGIN:VEVENT
DTSTART;TZID=UTC:20261227T103000
DTEND;TZID=UTC:20261227T120000
DTSTAMP:20260420T071253
CREATED:20251222T144324Z
LAST-MODIFIED:20251222T144324Z
UID:10002173-1798367400-1798372800@lymanmethodist.org
SUMMARY:End of the Year Celebration Service! ONE JOINT SERVICE!
DESCRIPTION:All services and campuses are coming together for one joint service to close the year! Join us at 10:30!
URL:https://lymanmethodist.org/event/end-of-the-year-celebration-service-one-joint-service/2026-12-27/
LOCATION:Lyman Methodist Church Downtown Campus\, 106 Groce Rd.\, Lyman\, SC\, 29365\, United States
ATTACH;FMTTYPE=image/jpeg:https://lymanmethodist.org/wp-content/uploads/2024/04/Traditional.jpg
END:VEVENT
BEGIN:VEVENT
DTSTART;TZID=UTC:20271226T103000
DTEND;TZID=UTC:20271226T120000
DTSTAMP:20260420T071253
CREATED:20251222T144324Z
LAST-MODIFIED:20251222T144324Z
UID:10002174-1829817000-1829822400@lymanmethodist.org
SUMMARY:End of the Year Celebration Service! ONE JOINT SERVICE!
DESCRIPTION:All services and campuses are coming together for one joint service to close the year! Join us at 10:30!
URL:https://lymanmethodist.org/event/end-of-the-year-celebration-service-one-joint-service/2027-12-26/
LOCATION:Lyman Methodist Church Downtown Campus\, 106 Groce Rd.\, Lyman\, SC\, 29365\, United States
ATTACH;FMTTYPE=image/jpeg:https://lymanmethodist.org/wp-content/uploads/2024/04/Traditional.jpg
END:VEVENT
BEGIN:VEVENT
DTSTART;TZID=UTC:20281231T103000
DTEND;TZID=UTC:20281231T120000
DTSTAMP:20260420T071253
CREATED:20251222T144324Z
LAST-MODIFIED:20251222T144324Z
UID:10002175-1861871400-1861876800@lymanmethodist.org
SUMMARY:End of the Year Celebration Service! ONE JOINT SERVICE!
DESCRIPTION:All services and campuses are coming together for one joint service to close the year! Join us at 10:30!
URL:https://lymanmethodist.org/event/end-of-the-year-celebration-service-one-joint-service/2028-12-31/
LOCATION:Lyman Methodist Church Downtown Campus\, 106 Groce Rd.\, Lyman\, SC\, 29365\, United States
ATTACH;FMTTYPE=image/jpeg:https://lymanmethodist.org/wp-content/uploads/2024/04/Traditional.jpg
END:VEVENT
BEGIN:VEVENT
DTSTART;TZID=UTC:20291230T103000
DTEND;TZID=UTC:20291230T120000
DTSTAMP:20260420T071253
CREATED:20251222T144324Z
LAST-MODIFIED:20251222T144324Z
UID:10002176-1893321000-1893326400@lymanmethodist.org
SUMMARY:End of the Year Celebration Service! ONE JOINT SERVICE!
DESCRIPTION:All services and campuses are coming together for one joint service to close the year! Join us at 10:30!
URL:https://lymanmethodist.org/event/end-of-the-year-celebration-service-one-joint-service/2029-12-30/
LOCATION:Lyman Methodist Church Downtown Campus\, 106 Groce Rd.\, Lyman\, SC\, 29365\, United States
ATTACH;FMTTYPE=image/jpeg:https://lymanmethodist.org/wp-content/uploads/2024/04/Traditional.jpg
END:VEVENT
END:VCALENDAR